BEGIN:VCALENDAR
VERSION:2.0
PRODID:-//Agones SFC - ECPv6.3.2//NONSGML v1.0//EN
CALSCALE:GREGORIAN
METHOD:PUBLISH
X-ORIGINAL-URL:https://www.agones-sfc.eu
X-WR-CALDESC:Events for Agones SFC
REFRESH-INTERVAL;VALUE=DURATION:PT1H
X-Robots-Tag:noindex
X-PUBLISHED-TTL:PT1H
BEGIN:VTIMEZONE
TZID:Europe/Malta
BEGIN:DAYLIGHT
TZOFFSETFROM:+0100
TZOFFSETTO:+0200
TZNAME:CEST
DTSTART:20250330T010000
END:DAYLIGHT
BEGIN:STANDARD
TZOFFSETFROM:+0200
TZOFFSETTO:+0100
TZNAME:CET
DTSTART:20251026T010000
END:STANDARD
END:VTIMEZONE
BEGIN:VEVENT
DTSTART;TZID=Europe/Malta:20251005T070000
DTEND;TZID=Europe/Malta:20251005T130000
DTSTAMP:20260422T001844
CREATED:20210425T180801Z
LAST-MODIFIED:20250929T091430Z
UID:13716-1759647600-1759669200@www.agones-sfc.eu
SUMMARY:Adidas ‘Terrex’ V19K ( Victoria Lines)
DESCRIPTION:The Victoria lines 19k (V19K) is the last race of a series of 5 trail running events organized by Agones Sfc during the year. The V19 race\, is approximately 19km long with a total elevation of 467 meters and is considered the queen event of the trail running in Malta.\nThe race crosses Malta from east to west\, alongside the historic fortifications of the Victoria lines. The event sponsored by Adidas ‘Terrex’\, is endorsed by ITRA (International Trail Running Association)\, supported by the Superintendent of Cultural Heritage and forms part of the European Heritage Days Activities.\n\nThe stunning views\, combined with the unbeaten track and the cultural and historical aspect of the route\, make it the most sought trail event for every trail runner in Malta and beyond. The unique race has also been attracting many foreign athletes\, who are looking at an event that showcases the best of what the Maltese Islands can offer in terms of running and beautiful scenery.\n\nThe V19\, now celebrating its 10th edition\, has been gathering momentum in the past years with numbers doubling every year. Athletes\, Maltese and foreigners alike find the route challenging but doable\, as the distance and the elevation gain that they have to cover\, is suitable for both athletes with a high level of fitness who are looking for one kind of a challenge\, as well as for amateur athletes\, who simply want to enjoy a memorable event in a great atmosphere.\nThe event is characterized by the ‘fun factor’ Agones Sfc is famous for during events the club organizes.\nIn 2022\, for the first time we will be organizing a number of events around the race itself which will make the V19K an even bigger experience to cherish for all the participants.\n  \n\n\n\n  \n 
URL:https://www.agones-sfc.eu/event/adidas-terrex-v19k-victoria-lines/
LOCATION:Fomm ir-Riħ
CATEGORIES:Trail Running
ATTACH;FMTTYPE=image/png:https://www.agones-sfc.eu/wp-content/uploads/2021/04/RACE5HORI-2025.png
END:VEVENT
END:VCALENDAR