BEGIN:VCALENDAR
VERSION:2.0
PRODID:-//Agones SFC - ECPv6.3.2//NONSGML v1.0//EN
CALSCALE:GREGORIAN
METHOD:PUBLISH
X-ORIGINAL-URL:https://www.agones-sfc.eu
X-WR-CALDESC:Events for Agones SFC
REFRESH-INTERVAL;VALUE=DURATION:PT1H
X-Robots-Tag:noindex
X-PUBLISHED-TTL:PT1H
BEGIN:VTIMEZONE
TZID:Europe/Malta
BEGIN:DAYLIGHT
TZOFFSETFROM:+0100
TZOFFSETTO:+0200
TZNAME:CEST
DTSTART:20260329T010000
END:DAYLIGHT
BEGIN:STANDARD
TZOFFSETFROM:+0200
TZOFFSETTO:+0100
TZNAME:CET
DTSTART:20261025T010000
END:STANDARD
END:VTIMEZONE
BEGIN:VEVENT
DTSTART;TZID=Europe/Malta:20260331T073000
DTEND;TZID=Europe/Malta:20260331T113000
DTSTAMP:20260421T171244
CREATED:20250514T203141Z
LAST-MODIFIED:20260325T082904Z
UID:19369-1774942200-1774956600@www.agones-sfc.eu
SUMMARY:Triathlon Series 2026 - Race 1 ( The Malta Triathlon Federation ECCO National Sprint Championships 2026 )
DESCRIPTION:The 2026 Triathlon Series is a program of 4 races organized by Agones Sfc and endorsed by the Malta Triathlon Federation. \nThe series\, consisting of 4 events\, incorporates the Standard Distance National Triathlon Championship\, the Sprint Distance National Championship\, Middle Distance National Championships and SuperSprint National Championships \nEvery race will include a main event and a second distance or even a third distance. Podium winners of every distance in every race will receive trophies. Trophies will also be awarded to age groupers if the event is a championship race. \n1 st event of the year is the Sprint Distance National Championship supported by ECCO on the 31st March 2026. \nThe event is DRAFT LEGAL and will also include a standard distance. \nTOTY points will only be allocated to the SPRINT DISTANCE being the MAIN EVENT. \nEvents will be held subject to all permits being issued by the relevant authorities. \nAll participants need to be Malta Triathlon Federation registered members. \nMore information will be posted on the events page and sent to all Malta Triathlon Federation Members via email. \nA briefing will be sent to all registered athletes closer to date. \n\n\n\n\n 
URL:https://www.agones-sfc.eu/event/triathlon-series-race-1/
LOCATION:Salini\, salina beach\, Naxxar\, Malta
CATEGORIES:Triathlon
ATTACH;FMTTYPE=image/png:https://www.agones-sfc.eu/wp-content/uploads/2025/05/design-65.png
END:VEVENT
BEGIN:VEVENT
DTSTART;TZID=Europe/Malta:20260417T200000
DTEND;TZID=Europe/Malta:20260417T213000
DTSTAMP:20260421T171244
CREATED:20210906T154243Z
LAST-MODIFIED:20260413T110305Z
UID:14306-1776456000-1776461400@www.agones-sfc.eu
SUMMARY:Eurosport Adidas ‘Terrex’ Trail Running League 2026 – Race 2 – Night Race
DESCRIPTION:  \nRace 2 of the Eurosport Adidas ‘Terrex’ Trail Running League is the only trail race on the island that takes place at night! \nThe darkness gives a different experience to trail running in general. Every year for the last few years\, we had a record-breaking crowd attending this race and this year we expect even bigger numbers as the public is discovering year by year the fun and excitement in trail running. \nThe race will be held on Friday around Has Saptan Valley. The race\, which is approx 6km long\, is supported by EUROSPORT and powered by Adidas Terrex. \nHas Saptan Valley is one of the last rural areas on the south of the island. The short distance makes this event particularly attractive for rookie runners\, as well as more experienced trail runners who want to challenge each other on home soil! \n  \nAPPLY NOW
URL:https://www.agones-sfc.eu/event/eurosport-adidas-terrex-trail-running-league-race-2-night-race/
LOCATION:Gudja\, Malta
CATEGORIES:Trail Running
ATTACH;FMTTYPE=image/png:https://www.agones-sfc.eu/wp-content/uploads/2021/09/unnamed.png
END:VEVENT
BEGIN:VEVENT
DTSTART;TZID=Europe/Malta:20260503T063000
DTEND;TZID=Europe/Malta:20260503T120000
DTSTAMP:20260421T171244
CREATED:20250606T125710Z
LAST-MODIFIED:20260408T095623Z
UID:19573-1777789800-1777809600@www.agones-sfc.eu
SUMMARY:Triathlon Series 2026 - Race 2 (Malta Triathlon Federation National Middle-Distance Championships 2026)
DESCRIPTION:  \nMalta Triathlon Federation National Middle-Distance Championships 2026 \nRace: – 1.5km Swim – 60km Bike – 15km Run. \nThe event will be non-drafting and will award points towards the TOTY 2026 Classification. \nA separate Sprint Triathlon (non drafting) event will also be organised on the same day. \nThere will also be a Relay Category. \n\n\n\n\nMiddle Distance APPLICATION\n\n\n  \n\nSprint Distance APPLICATION\n\n  \nMiddle distance relay APPLICATION
URL:https://www.agones-sfc.eu/event/triathlon-series-race-2/
LOCATION:Salini\, salina beach\, Naxxar\, Malta
CATEGORIES:Triathlon
ATTACH;FMTTYPE=image/png:https://www.agones-sfc.eu/wp-content/uploads/2025/06/design-69.png
END:VEVENT
END:VCALENDAR