BEGIN:VCALENDAR
VERSION:2.0
PRODID:-//Agones SFC - ECPv6.3.2//NONSGML v1.0//EN
CALSCALE:GREGORIAN
METHOD:PUBLISH
X-ORIGINAL-URL:https://www.agones-sfc.eu
X-WR-CALDESC:Events for Agones SFC
REFRESH-INTERVAL;VALUE=DURATION:PT1H
X-Robots-Tag:noindex
X-PUBLISHED-TTL:PT1H
BEGIN:VTIMEZONE
TZID:Europe/Malta
BEGIN:DAYLIGHT
TZOFFSETFROM:+0100
TZOFFSETTO:+0200
TZNAME:CEST
DTSTART:20250330T010000
END:DAYLIGHT
BEGIN:STANDARD
TZOFFSETFROM:+0200
TZOFFSETTO:+0100
TZNAME:CET
DTSTART:20251026T010000
END:STANDARD
END:VTIMEZONE
BEGIN:VEVENT
DTSTART;TZID=Europe/Malta:20250928T080000
DTEND;TZID=Europe/Malta:20250928T170000
DTSTAMP:20260420T033309
CREATED:20250812T091120Z
LAST-MODIFIED:20250921T153832Z
UID:19866-1759046400-1759078800@www.agones-sfc.eu
SUMMARY:Triathlon Series Race 3
DESCRIPTION:The 2025 Triathlon Series is a program of 4 races organized by Agones Sfc and endorsed by the Malta Triathlon Federation.\nThe series\, consisting of 4 events will incorporate the Standard Distance National Triathlon Championship and the Sprint Distance national Championship.\n\nEvery race will include a main event and a second distance or even a third distance. Podium winners of every distance in every race will receive trophies. An overall presentation will also be held after the last event of the series.\nAll athletes that complete the series will receive a Triathlon Series 2025 Finisher’s medal and a commemorative token.\n\nEvents will be held subject to all permits being issued by the relevant authorities.\nAll participants need be Malta Triathlon Federation registered members which include the relevant authorities.\nMore information will be posted on the events page.\n\n\n  \n\n 
URL:https://www.agones-sfc.eu/event/triathlon-series-race-3/
LOCATION:Salini\, salina beach\, Naxxar\, Malta
CATEGORIES:Triathlon
ATTACH;FMTTYPE=image/png:https://www.agones-sfc.eu/wp-content/uploads/2025/05/FullLogo-2.png
END:VEVENT
END:VCALENDAR